View In:
ArcGIS JavaScript
ArcGIS Online map viewer
Google Earth
ArcMap
ArcGIS Explorer
View Footprint In:
ArcGIS Online map viewer
Service Description: Topo maps from the 1:100000, 1:50000 and 1:25000 series covering the state of NSW
Map Name: TopoMapCurrent
Legend
All Layers and Tables
Layers:
Description: Topo maps from the 1:100000, 1:50000 and 1:25000 series covering the state of NSW. Metadata_link https://sdi.nsw.gov.au/nswsdi/catalog/search/resource/details.page?uuid=%7B80E19CCB-CD40-415E-8616-C5DC31FBAD62%7D
Copyright Text: © Department of Finance, Services & Innovation 2018
Spatial Reference:
102100
(3857)
Single Fused Map Cache: true
Tile Info:
- Height: 256
- Width: 256
- DPI: 96
-
Levels of Detail: 22
-
Level ID: 0
[ Start Tile, End Tile ]
- Resolution: 156543.03392800014
- Scale: 5.91657527591555E8
-
Level ID: 1
[ Start Tile, End Tile ]
- Resolution: 78271.51696399994
- Scale: 2.95828763795777E8
-
Level ID: 2
[ Start Tile, End Tile ]
- Resolution: 39135.75848200009
- Scale: 1.47914381897889E8
-
Level ID: 3
[ Start Tile, End Tile ]
- Resolution: 19567.87924099992
- Scale: 7.3957190948944E7
-
Level ID: 4
[ Start Tile, End Tile ]
- Resolution: 9783.93962049996
- Scale: 3.6978595474472E7
-
Level ID: 5
[ Start Tile, End Tile ]
- Resolution: 4891.96981024998
- Scale: 1.8489297737236E7
- Format: MIXED
- Compression Quality: 75.0
- Origin: X: -2.0037508342787E7
Y: 2.0037508342787E7
- Spatial Reference: 102100
(3857)
Initial Extent:
XMin: 1.497909503711573E7
YMin: -3988429.2642024257
XMax: 1.7832326461872097E7
YMax: -2639182.922469091
Spatial Reference: 102100
(3857)
Full Extent:
XMin: 1.56959679445E7
YMin: -4510200.751699999
XMax: 1.7728371038500004E7
YMax: -3264742.5901000015
Spatial Reference: 102100
(3857)
Units: esriMeters
Supported Image Format Types: PNG32,PNG24,PNG,JPG,DIB,TIFF,EMF,PS,PDF,GIF,SVG,SVGZ,BMP
Document Info:
Title: TopoMapCurrent
Author: DFSI Spatial Services NSW
Comments: Topo maps from the 1:100000, 1:50000 and 1:25000 series covering the state of NSW
Subject: Mosaic of current Topo maps
Category:
Keywords: DFSI,TOPO
AntialiasingMode: None
TextAntialiasingMode: Force
Supports Dynamic Layers: false
Resampling: true
MaxRecordCount: 1000
MaxImageHeight: 4096
MaxImageWidth: 4096
Supported Query Formats: JSON, AMF, geoJSON
Min Scale: 5.91657527591555E8
Max Scale: 282.124294
Supports Datum Transformation: true
Child Resources:
Info
Supported Operations:
Export Map
Identify
QueryDomains
Find
Return Updates
Generate KML